BEGIN:VCALENDAR
VERSION:2.0
PRODID:-//https://www.discovermiddleton.ca//NONSGML kigkonsult.se iCalcreator 2.41.71//
CALSCALE:GREGORIAN
METHOD:PUBLISH
UID:62363431-3735-4261-a266-643837383937
X-WR-CALNAME:JCal Pro Calendar
X-WR-CALDESC:Your online events calendar
X-WR-TIMEZONE:America/Halifax
BEGIN:VTIMEZONE
TZID:America/Halifax
TZUNTIL:20271107T050000Z
BEGIN:STANDARD
TZNAME:AST
DTSTART:20251102T020000
TZOFFSETFROM:-0300
TZOFFSETTO:-0400
RDATE:20261101T020000
END:STANDARD
BEGIN:DAYLIGHT
TZNAME:ADT
DTSTART:20260308T020000
TZOFFSETFROM:-0400
TZOFFSETTO:-0300
RDATE:20270314T020000
END:DAYLIGHT
END:VTIMEZONE
BEGIN:VEVENT
UID:20260422T090000UTC-5708vTDV5K@https://www.discovermiddleton.ca/
DTSTAMP:20260420T161641Z
CATEGORIES:Alerts
DESCRIPTION:Town Hall will be closed until 10:00am due to a staff meeting.&
 nbsp\;
DTSTART;TZID=America/Halifax:20260422T083000
DTEND;TZID=America/Halifax:20260422T100000
SUMMARY:Town Hall Closed
URL:https://www.discovermiddleton.ca/about-us/community-calendar/18-alerts/
 69-town-hall-closed
X-ALT-DESC;FMTTYPE=TEXT/HTML:Town Hall will be closed until 10:00am due to 
 a staff meeting.&nbsp\;
END:VEVENT
END:VCALENDAR
