BEGIN:VCALENDAR
VERSION:2.0
PRODID:-//https://www.discovermiddleton.ca//NONSGML kigkonsult.se iCalcreator 2.41.71//
CALSCALE:GREGORIAN
METHOD:PUBLISH
UID:39373836-3965-4533-b337-353366346663
X-WR-CALNAME:JCal Pro Calendar
X-WR-CALDESC:Your online events calendar
X-WR-TIMEZONE:America/Halifax
BEGIN:VTIMEZONE
TZID:America/Halifax
TZUNTIL:20271107T050000Z
BEGIN:STANDARD
TZNAME:AST
DTSTART:20251102T020000
TZOFFSETFROM:-0300
TZOFFSETTO:-0400
RDATE:20261101T020000
END:STANDARD
BEGIN:DAYLIGHT
TZNAME:ADT
DTSTART:20260308T020000
TZOFFSETFROM:-0400
TZOFFSETTO:-0300
RDATE:20270314T020000
END:DAYLIGHT
END:VTIMEZONE
BEGIN:VEVENT
UID:20260507T110000UTC-9867d8CxuD@https://www.discovermiddleton.ca/
DTSTAMP:20260423T144143Z
CATEGORIES:Council Meetings
DESCRIPTION:<p><strong>Location:</strong> Town Hall Council Chambers - 131 
 Commercial Street\, Middleton<br><strong>Time:</strong> 1:00pm</p>
DTSTART;TZID=America/Halifax:20260507T130000
DTEND;TZID=America/Halifax:20260507T140000
SUMMARY:IDEA Committee Meeting
URL:https://www.discovermiddleton.ca/about-us/community-calendar/15-council
 -meetings/81-idea-committee-meeting
X-ALT-DESC;FMTTYPE=TEXT/HTML:<p><strong>Location:</strong> Town Hall Counci
 l Chambers - 131 Commercial Street\, Middleton<br><strong>Time:</strong> 1
 :00pm</p>
END:VEVENT
END:VCALENDAR
