BEGIN:VCALENDAR
VERSION:2.0
PRODID:-//https://www.discovermiddleton.ca//NONSGML kigkonsult.se iCalcreator 2.41.71//
CALSCALE:GREGORIAN
METHOD:PUBLISH
UID:39386666-3139-4863-a539-343839623761
X-WR-CALNAME:JCal Pro Calendar
X-WR-CALDESC:Your online events calendar
X-WR-TIMEZONE:America/Halifax
BEGIN:VTIMEZONE
TZID:America/Halifax
TZUNTIL:20271107T050000Z
BEGIN:STANDARD
TZNAME:AST
DTSTART:20251102T020000
TZOFFSETFROM:-0300
TZOFFSETTO:-0400
RDATE:20261101T020000
END:STANDARD
BEGIN:DAYLIGHT
TZNAME:ADT
DTSTART:20260308T020000
TZOFFSETFROM:-0400
TZOFFSETTO:-0300
RDATE:20270314T020000
END:DAYLIGHT
END:VTIMEZONE
BEGIN:VEVENT
UID:20260512T110000UTC-6856iK3VAu@https://www.discovermiddleton.ca/
DTSTAMP:20260422T153500Z
CATEGORIES:Council Meetings
DESCRIPTION:<p><strong>Location:</strong> Town Hall Council Chambers - 131 
 Commercial Street\, Middleton<br><strong>Time:</strong> 4:00pm</p>
DTSTART;TZID=America/Halifax:20260512T160000
DTEND;TZID=America/Halifax:20260512T160000
SUMMARY:Planning Advisory Committee Meeting
URL:https://www.discovermiddleton.ca/about-us/community-calendar/15-council
 -meetings/70-planning-advisory-committee-meeting
X-ALT-DESC;FMTTYPE=TEXT/HTML:<p><strong>Location:</strong> Town Hall Counci
 l Chambers - 131 Commercial Street\, Middleton<br><strong>Time:</strong> 4
 :00pm</p>
END:VEVENT
END:VCALENDAR
